BEGIN:VCALENDAR
VERSION:2.0
PRODID:-//Patenschaften für Kinder psychisch erkrankter Eltern - AMSOC eV - ECPv6.15.19//NONSGML v1.0//EN
CALSCALE:GREGORIAN
METHOD:PUBLISH
X-WR-CALNAME:Patenschaften für Kinder psychisch erkrankter Eltern - AMSOC eV
X-ORIGINAL-URL:https://www.amsoc-patenschaften.de
X-WR-CALDESC:Veranstaltungen für Patenschaften für Kinder psychisch erkrankter Eltern - AMSOC eV
REFRESH-INTERVAL;VALUE=DURATION:PT1H
X-Robots-Tag:noindex
X-PUBLISHED-TTL:PT1H
BEGIN:VTIMEZONE
TZID:Europe/Berlin
BEGIN:DAYLIGHT
TZOFFSETFROM:+0100
TZOFFSETTO:+0200
TZNAME:CEST
DTSTART:20250330T010000
END:DAYLIGHT
BEGIN:STANDARD
TZOFFSETFROM:+0200
TZOFFSETTO:+0100
TZNAME:CET
DTSTART:20251026T010000
END:STANDARD
BEGIN:DAYLIGHT
TZOFFSETFROM:+0100
TZOFFSETTO:+0200
TZNAME:CEST
DTSTART:20260329T010000
END:DAYLIGHT
BEGIN:STANDARD
TZOFFSETFROM:+0200
TZOFFSETTO:+0100
TZNAME:CET
DTSTART:20261025T010000
END:STANDARD
BEGIN:DAYLIGHT
TZOFFSETFROM:+0100
TZOFFSETTO:+0200
TZNAME:CEST
DTSTART:20270328T010000
END:DAYLIGHT
BEGIN:STANDARD
TZOFFSETFROM:+0200
TZOFFSETTO:+0100
TZNAME:CET
DTSTART:20271031T010000
END:STANDARD
END:VTIMEZONE
BEGIN:VEVENT
DTSTART;TZID=Europe/Berlin:20261008T100000
DTEND;TZID=Europe/Berlin:20261008T120000
DTSTAMP:20260424T225923
CREATED:20251222T105619Z
LAST-MODIFIED:20260421T135246Z
UID:2300-1791453600-1791460800@www.amsoc-patenschaften.de
SUMMARY:Informationsveranstaltung für Fachkräfte (online via Zoom)
DESCRIPTION:Seit 2005 vermitteln und begleiten wir berlinweit Patenschaften für Kinder psychisch erkrankter Eltern. Unsere ehrenamtlichen Pat*innen begleiten betroffene Kinder langfristig und nehmen sie teilweise bei Bedarf auch befristet bei sich zu Hause auf. Als verlässliche Bezugspersonen der Kinder können Pat*innen ein Faktor für eine emotional gesunde Entwicklung der Kinder sein und gleichzeitig die psychisch erkrankten Eltern – in der Regel alleinerziehende Mütter – entlasten. \nRegelmäßig bieten wir Informationsveranstaltungen an\, um Fachkräfte\, die mit Familien arbeiten\, in denen Eltern psychisch erkrankt sind\, ausführlich über unser Angebot zu informieren.\nDie Informationsveranstaltung bietet Ihnen Gelegenheit: \n\nDetails über unser Patenschaftsangebot und das zugrunde liegende Konzept zu erfahren\nInformationen über die genauen Konditionen für teilnehmende Familien zu bekommen\nden Träger des Angebots und sein Patenschaftsteam kennenzulernen.\n\nDie nächste Informationsveranstaltung findet am Donnerstag\, den 8. Oktober 2026\, von 10:00 – 12:00 Uhr via Zoom statt. \nEine Anmeldung ist erforderlich\, bitte nutzen Sie dafür unser Online-Formular.
URL:https://www.amsoc-patenschaften.de/event/informationsveranstaltung-fach-26-10-15
END:VEVENT
END:VCALENDAR