BEGIN:VCALENDAR
VERSION:2.0
PRODID:-//Patenschaften für Kinder psychisch erkrankter Eltern - AMSOC eV - ECPv6.15.19//NONSGML v1.0//EN
CALSCALE:GREGORIAN
METHOD:PUBLISH
X-ORIGINAL-URL:https://www.amsoc-patenschaften.de
X-WR-CALDESC:Veranstaltungen für Patenschaften für Kinder psychisch erkrankter Eltern - AMSOC eV
REFRESH-INTERVAL;VALUE=DURATION:PT1H
X-Robots-Tag:noindex
X-PUBLISHED-TTL:PT1H
BEGIN:VTIMEZONE
TZID:Europe/Berlin
BEGIN:DAYLIGHT
TZOFFSETFROM:+0100
TZOFFSETTO:+0200
TZNAME:CEST
DTSTART:20250330T010000
END:DAYLIGHT
BEGIN:STANDARD
TZOFFSETFROM:+0200
TZOFFSETTO:+0100
TZNAME:CET
DTSTART:20251026T010000
END:STANDARD
BEGIN:DAYLIGHT
TZOFFSETFROM:+0100
TZOFFSETTO:+0200
TZNAME:CEST
DTSTART:20260329T010000
END:DAYLIGHT
BEGIN:STANDARD
TZOFFSETFROM:+0200
TZOFFSETTO:+0100
TZNAME:CET
DTSTART:20261025T010000
END:STANDARD
BEGIN:DAYLIGHT
TZOFFSETFROM:+0100
TZOFFSETTO:+0200
TZNAME:CEST
DTSTART:20270328T010000
END:DAYLIGHT
BEGIN:STANDARD
TZOFFSETFROM:+0200
TZOFFSETTO:+0100
TZNAME:CET
DTSTART:20271031T010000
END:STANDARD
END:VTIMEZONE
BEGIN:VEVENT
DTSTART;TZID=Europe/Berlin:20260511T180000
DTEND;TZID=Europe/Berlin:20260511T200000
DTSTAMP:20260424T180618
CREATED:20251021T103933Z
LAST-MODIFIED:20260312T083347Z
UID:2261-1778522400-1778529600@www.amsoc-patenschaften.de
SUMMARY:Informationsveranstaltung für interessierte Ehrenamtliche (online via Zoom)
DESCRIPTION:Im Rahmen der Infoveranstaltung stellen wir Ihnen das Patenschaftsangebot vor und berichten ausführlich von den Aufgaben und der Auswahl von Pat*innen sowie den Anforderungen an die Ehrenamtlichen. Zudem erhalten Sie grundlegende Informationen zur Situation von Kindern mit psychisch erkrankten Eltern. \nDie Infoveranstaltung soll Ihnen als Entscheidungshilfe dienen\, ob Sie sich bei uns bewerben möchten. Es besteht ausreichend Raum\, um Fragen zu stellen. Einen Bewerbungsbogen halten wir am Ende der Veranstaltung für Sie bereit. \nEine Anmeldung ist erforderlich\, bitte nutzen Sie dafür unser Online-Formular.
URL:https://www.amsoc-patenschaften.de/event/informationsveranstaltung-fuer-pateninteressentinnen-26-05-11
END:VEVENT
END:VCALENDAR